BEGIN:VCALENDAR
VERSION:2.0
PRODID:spatie/icalendar-generator
DESCRIPTION:אירועים מ-היTרבות - HiTarbut
X-WR-CALDESC:אירועים מ-היTרבות - HiTarbut
REFRESH-INTERVAL;VALUE=DURATION:PT1440M
X-PUBLISHED-TTL:PT1440M
BEGIN:VTIMEZONE
TZID:Asia/Jerusalem
BEGIN:STANDARD
DTSTART:20231029T020000Z
TZOFFSETFROM:+0300
TZOFFSETTO:+0200
END:STANDARD
BEGIN:DAYLIGHT
DTSTART:20240329T020000Z
TZOFFSETFROM:+0200
TZOFFSETTO:+0300
END:DAYLIGHT
BEGIN:STANDARD
DTSTART:20241027T020000Z
TZOFFSETFROM:+0300
TZOFFSETTO:+0200
END:STANDARD
END:VTIMEZONE
BEGIN:VTIMEZONE
TZID:UTC
BEGIN:STANDARD
DTSTART:20250724T001210Z
TZOFFSETFROM:+0000
TZOFFSETTO:+0000
END:STANDARD
END:VTIMEZONE
BEGIN:VEVENT
UID:1080-112
DTSTAMP:20260420T001210Z
SUMMARY:היום בהיסטוריה
LOCATION:
ORGANIZER;CN=Meirav:MAILTO:meiravg21@gmail.com
RRULE:FREQ=YEARLY;BYMONTH=05;BYDAY=30;UNTIL=20330530T000000Z
DTSTART;TZID=Asia/Jerusalem:20240530T000000
DTEND;TZID=Asia/Jerusalem:20240530T010000
X-ALT-DESC;FMTTYPE=TEXT/HTML:1967 - יוצא לאור ספרו של גבר
 יאל גרסיה מארקס מאה שנים של בדידות
CATEGORIES:General
URL;VALUE=URI:https://meiravgolan-hitarbut.co.il/mc-events/%d7%94%d7%99%d7%
 95%d7%9d-%d7%91%d7%94%d7%99%d7%a1%d7%98%d7%95%d7%a8%d7%99%d7%94-48/?mc_id=
 1080
METHOD:PUBLISH
END:VEVENT
END:VCALENDAR