BEGIN:VCALENDAR
VERSION:2.0
PRODID:spatie/icalendar-generator
DESCRIPTION:אירועים מ-היTרבות - HiTarbut
X-WR-CALDESC:אירועים מ-היTרבות - HiTarbut
REFRESH-INTERVAL;VALUE=DURATION:PT1440M
X-PUBLISHED-TTL:PT1440M
BEGIN:VTIMEZONE
TZID:Asia/Jerusalem
BEGIN:DAYLIGHT
DTSTART:20230324T020000Z
TZOFFSETFROM:+0200
TZOFFSETTO:+0300
END:DAYLIGHT
BEGIN:STANDARD
DTSTART:20231029T020000Z
TZOFFSETFROM:+0300
TZOFFSETTO:+0200
END:STANDARD
END:VTIMEZONE
BEGIN:VTIMEZONE
TZID:UTC
BEGIN:STANDARD
DTSTART:20250726T063607Z
TZOFFSETFROM:+0000
TZOFFSETTO:+0000
END:STANDARD
END:VTIMEZONE
BEGIN:VEVENT
UID:2117-168
DTSTAMP:20260422T063607Z
SUMMARY:היום בהיסטוריה
LOCATION:
ORGANIZER;CN=Meirav:MAILTO:meiravg21@gmail.com
DTSTART;TZID=Asia/Jerusalem:20230731T000000
DTEND;TZID=Asia/Jerusalem:20230731T010000
X-ALT-DESC;FMTTYPE=TEXT/HTML:1919 - פרימו לוי 1965 - ג'יי קיי
  רולינג היום ב 1703 מושם ויליאם דפו (רובינז
 ון קרוזו\, מול פלנדרס) מול עמוד קלון\, כיוו
 ן שפרסם עלון סאטירה פוליטי. אבל במקום לזר
 וק עליו עגבניות ושאר ירקות\, הקהל השליך ע
 ליו פרחים.
CATEGORIES:General
URL;VALUE=URI:https://meiravgolan-hitarbut.co.il/mc-events/%d7%94%d7%99%d7%
 95%d7%9d-%d7%91%d7%94%d7%99%d7%a1%d7%98%d7%95%d7%a8%d7%99%d7%94-74/
METHOD:PUBLISH
END:VEVENT
END:VCALENDAR