BEGIN:VCALENDAR
VERSION:2.0
PRODID:spatie/icalendar-generator
DESCRIPTION:אירועים מ-היTרבות - HiTarbut
X-WR-CALDESC:אירועים מ-היTרבות - HiTarbut
REFRESH-INTERVAL;VALUE=DURATION:PT1440M
X-PUBLISHED-TTL:PT1440M
BEGIN:VTIMEZONE
TZID:Asia/Jerusalem
BEGIN:DAYLIGHT
DTSTART:20230324T020000Z
TZOFFSETFROM:+0200
TZOFFSETTO:+0300
END:DAYLIGHT
BEGIN:STANDARD
DTSTART:20231029T020000Z
TZOFFSETFROM:+0300
TZOFFSETTO:+0200
END:STANDARD
END:VTIMEZONE
BEGIN:VTIMEZONE
TZID:UTC
BEGIN:STANDARD
DTSTART:20250723T180007Z
TZOFFSETFROM:+0000
TZOFFSETTO:+0000
END:STANDARD
END:VTIMEZONE
BEGIN:VEVENT
UID:2403-198
DTSTAMP:20260419T180007Z
SUMMARY:היום בהיסטוריה
LOCATION:
ORGANIZER;CN=Meirav:MAILTO:meiravg21@gmail.com
RRULE:FREQ=YEARLY;BYMONTH=09;BYDAY=26;UNTIL=20330926T000000Z
DTSTART;TZID=Asia/Jerusalem:20230926T000000
DTEND;TZID=Asia/Jerusalem:20230926T010000
X-ALT-DESC;FMTTYPE=TEXT/HTML:1888 - ט.ס. אליוט 1889 - מרטין ה
 יידגר 1937 - אלי עמיר 1952 - בל הוקס 1994 - רדיו ב
 לה בלה 2006 - יוצא לאור ספרו של קורמק מקארת'
 י - הדרך
CATEGORIES:General
URL;VALUE=URI:https://meiravgolan-hitarbut.co.il/mc-events/%d7%94%d7%99%d7%
 95%d7%9d-%d7%91%d7%94%d7%99%d7%a1%d7%98%d7%95%d7%a8%d7%99%d7%94-88/?mc_id=
 2403
METHOD:PUBLISH
END:VEVENT
END:VCALENDAR