BEGIN:VCALENDAR
VERSION:2.0
PRODID:spatie/icalendar-generator
DESCRIPTION:אירועים מ-היTרבות - HiTarbut
X-WR-CALDESC:אירועים מ-היTרבות - HiTarbut
REFRESH-INTERVAL;VALUE=DURATION:PT1440M
X-PUBLISHED-TTL:PT1440M
BEGIN:VTIMEZONE
TZID:Asia/Jerusalem
BEGIN:DAYLIGHT
DTSTART:20230324T020000Z
TZOFFSETFROM:+0200
TZOFFSETTO:+0300
END:DAYLIGHT
BEGIN:STANDARD
DTSTART:20231029T020000Z
TZOFFSETFROM:+0300
TZOFFSETTO:+0200
END:STANDARD
BEGIN:DAYLIGHT
DTSTART:20240329T020000Z
TZOFFSETFROM:+0200
TZOFFSETTO:+0300
END:DAYLIGHT
END:VTIMEZONE
BEGIN:VTIMEZONE
TZID:UTC
BEGIN:STANDARD
DTSTART:20250724T002853Z
TZOFFSETFROM:+0000
TZOFFSETTO:+0000
END:STANDARD
END:VTIMEZONE
BEGIN:VEVENT
UID:2473-204
DTSTAMP:20260420T002853Z
SUMMARY:היום יומולדתם של
LOCATION:
ORGANIZER;CN=Meirav:MAILTO:meiravg21@gmail.com
RRULE:FREQ=YEARLY;BYMONTH=10;BYDAY=15;UNTIL=20331015T000000Z
DTSTART;TZID=Asia/Jerusalem:20231015T000000
DTEND;TZID=Asia/Jerusalem:20231015T010000
X-ALT-DESC;FMTTYPE=TEXT/HTML:70 לפנה\"ס - ורגיליוס 1844 - פר
 ידריך ניטשה 1923 - איטלו קאלווינו 1926 - מישל 
 פוקו
CATEGORIES:General
URL;VALUE=URI:https://meiravgolan-hitarbut.co.il/mc-events/%d7%94%d7%99%d7%
 95%d7%9d-%d7%99%d7%95%d7%9e%d7%95%d7%9c%d7%93%d7%aa%d7%9d-%d7%a9%d7%9c-66/
 ?mc_id=2473
METHOD:PUBLISH
END:VEVENT
END:VCALENDAR