BEGIN:VCALENDAR
VERSION:2.0
PRODID:spatie/icalendar-generator
DESCRIPTION:אירועים מ-היTרבות - HiTarbut
X-WR-CALDESC:אירועים מ-היTרבות - HiTarbut
REFRESH-INTERVAL;VALUE=DURATION:PT1440M
X-PUBLISHED-TTL:PT1440M
BEGIN:VTIMEZONE
TZID:Asia/Jerusalem
BEGIN:DAYLIGHT
DTSTART:20270326T020000Z
TZOFFSETFROM:+0200
TZOFFSETTO:+0300
END:DAYLIGHT
BEGIN:STANDARD
DTSTART:20271031T020000Z
TZOFFSETFROM:+0300
TZOFFSETTO:+0200
END:STANDARD
BEGIN:DAYLIGHT
DTSTART:20280324T020000Z
TZOFFSETFROM:+0200
TZOFFSETTO:+0300
END:DAYLIGHT
END:VTIMEZONE
BEGIN:VTIMEZONE
TZID:UTC
BEGIN:STANDARD
DTSTART:20250728T011456Z
TZOFFSETFROM:+0000
TZOFFSETTO:+0000
END:STANDARD
END:VTIMEZONE
BEGIN:VEVENT
UID:2579-223
DTSTAMP:20260424T011456Z
SUMMARY:היום בהיסטוריה
LOCATION:
ORGANIZER;CN=Meirav:MAILTO:meiravg21@gmail.com
RRULE:FREQ=YEARLY;BYMONTH=11;BYDAY=18;UNTIL=20331118T000000Z
DTSTART;TZID=Asia/Jerusalem:20271118T000000
DTEND;TZID=Asia/Jerusalem:20271118T010000
X-ALT-DESC;FMTTYPE=TEXT/HTML:1939 - מרגרט אטווד 1991 - יוצא 
 לאור האלבום הכי טוב של U2 - אכטונג בייבי [you
 tube https://www.youtube.com/watch?v=ftjEcrrf7r0?si=5Mrt9AQRPMXIsa73]
CATEGORIES:General
URL;VALUE=URI:https://meiravgolan-hitarbut.co.il/mc-events/%d7%94%d7%99%d7%
 95%d7%9d-%d7%91%d7%94%d7%99%d7%a1%d7%98%d7%95%d7%a8%d7%99%d7%94-99/?mc_id=
 2579
METHOD:PUBLISH
END:VEVENT
END:VCALENDAR