BEGIN:VCALENDAR
VERSION:2.0
PRODID:spatie/icalendar-generator
DESCRIPTION:אירועים מ-היTרבות - HiTarbut
X-WR-CALDESC:אירועים מ-היTרבות - HiTarbut
REFRESH-INTERVAL;VALUE=DURATION:PT1440M
X-PUBLISHED-TTL:PT1440M
BEGIN:VTIMEZONE
TZID:Asia/Jerusalem
BEGIN:STANDARD
DTSTART:20271031T020000Z
TZOFFSETFROM:+0300
TZOFFSETTO:+0200
END:STANDARD
BEGIN:DAYLIGHT
DTSTART:20280324T020000Z
TZOFFSETFROM:+0200
TZOFFSETTO:+0300
END:DAYLIGHT
END:VTIMEZONE
BEGIN:VTIMEZONE
TZID:UTC
BEGIN:STANDARD
DTSTART:20250724T091028Z
TZOFFSETFROM:+0000
TZOFFSETTO:+0000
END:STANDARD
END:VTIMEZONE
BEGIN:VEVENT
UID:2863-249
DTSTAMP:20260420T091028Z
SUMMARY:היום בהיסטוריה
LOCATION:
ORGANIZER;CN=Meirav:MAILTO:meiravg21@gmail.com
RRULE:FREQ=YEARLY;BYMONTH=12;BYDAY=23;UNTIL=20331223T000000Z
DTSTART;TZID=Asia/Jerusalem:20271223T000000
DTEND;TZID=Asia/Jerusalem:20271223T010000
X-ALT-DESC;FMTTYPE=TEXT/HTML:1963 - דונה טארט 1929 - צ'ט בייק
 ר 1966 - הקרנת הבכורה של הטוב הרע והמכוער [you
 tube https://www.youtube.com/watch?v=ubVc2MQwMkg?si=ko7LrXoVSBkBdC20] 1992
  - ניחוח אישה
CATEGORIES:General
URL;VALUE=URI:https://meiravgolan-hitarbut.co.il/mc-events/%d7%94%d7%99%d7%
 95%d7%9d-%d7%91%d7%94%d7%99%d7%a1%d7%98%d7%95%d7%a8%d7%99%d7%94-112/?mc_id
 =2863
METHOD:PUBLISH
END:VEVENT
END:VCALENDAR