BEGIN:VCALENDAR
VERSION:2.0
PRODID:spatie/icalendar-generator
DESCRIPTION:אירועים מ-היTרבות - HiTarbut
X-WR-CALDESC:אירועים מ-היTרבות - HiTarbut
REFRESH-INTERVAL;VALUE=DURATION:PT1440M
X-PUBLISHED-TTL:PT1440M
BEGIN:VTIMEZONE
TZID:Asia/Jerusalem
BEGIN:STANDARD
DTSTART:20301027T020000Z
TZOFFSETFROM:+0300
TZOFFSETTO:+0200
END:STANDARD
BEGIN:DAYLIGHT
DTSTART:20310328T020000Z
TZOFFSETFROM:+0200
TZOFFSETTO:+0300
END:DAYLIGHT
END:VTIMEZONE
BEGIN:VTIMEZONE
TZID:UTC
BEGIN:STANDARD
DTSTART:20250724T185056Z
TZOFFSETFROM:+0000
TZOFFSETTO:+0000
END:STANDARD
END:VTIMEZONE
BEGIN:VEVENT
UID:419-44
DTSTAMP:20260420T185056Z
SUMMARY:היום בהיסטוריה
LOCATION:
ORGANIZER;CN=Meirav:MAILTO:meiravg21@gmail.com
RRULE:FREQ=YEARLY;BYMONTH=03;BYDAY=21;UNTIL=20330321T000000Z
DTSTART;TZID=Asia/Jerusalem:20310321T000000
DTEND;TZID=Asia/Jerusalem:20310321T010000
X-ALT-DESC;FMTTYPE=TEXT/HTML:1685 - יוהן סבטסטיאן באך 1949 -
  סלבוי ז'יז'ק 1951 - נורית גלרון יום הבינלאו
 מי למאבק בגזענות Poetry Day יום השיוויון
CATEGORIES:General
URL;VALUE=URI:https://meiravgolan-hitarbut.co.il/mc-events/%d7%94%d7%99%d7%
 95%d7%9d-%d7%91%d7%94%d7%99%d7%a1%d7%98%d7%95%d7%a8%d7%99%d7%94-8/?mc_id=4
 19
METHOD:PUBLISH
END:VEVENT
END:VCALENDAR