BEGIN:VCALENDAR
VERSION:2.0
PRODID:spatie/icalendar-generator
DESCRIPTION:אירועים מ-היTרבות - HiTarbut
X-WR-CALDESC:אירועים מ-היTרבות - HiTarbut
REFRESH-INTERVAL;VALUE=DURATION:PT1440M
X-PUBLISHED-TTL:PT1440M
BEGIN:VTIMEZONE
TZID:Asia/Jerusalem
BEGIN:STANDARD
DTSTART:20241027T020000Z
TZOFFSETFROM:+0300
TZOFFSETTO:+0200
END:STANDARD
BEGIN:DAYLIGHT
DTSTART:20250328T020000Z
TZOFFSETFROM:+0200
TZOFFSETTO:+0300
END:DAYLIGHT
END:VTIMEZONE
BEGIN:VTIMEZONE
TZID:UTC
BEGIN:STANDARD
DTSTART:20250725T210713Z
TZOFFSETFROM:+0000
TZOFFSETTO:+0000
END:STANDARD
END:VTIMEZONE
BEGIN:VEVENT
UID:631-68
DTSTAMP:20260421T210713Z
SUMMARY:היום יומולדתם של
LOCATION:
ORGANIZER;CN=Meirav:MAILTO:meiravg21@gmail.com
RRULE:FREQ=YEARLY;BYMONTH=04;BYDAY=13;UNTIL=20330413T000000Z
DTSTART;TZID=Asia/Jerusalem:20250413T000000
DTEND;TZID=Asia/Jerusalem:20250413T010000
X-ALT-DESC;FMTTYPE=TEXT/HTML:1906 - סמואל בקט 1924 - דן בן אמ
 וץ 1932 - יוסי בנאי 1939 - שיימוס הייני &amp;nbsp\; &amp;nbsp
 \;
CATEGORIES:General
URL;VALUE=URI:https://meiravgolan-hitarbut.co.il/mc-events/%d7%94%d7%99%d7%
 95%d7%9d-%d7%99%d7%95%d7%9e%d7%95%d7%9c%d7%93%d7%aa%d7%9d-%d7%a9%d7%9c-29/
 ?mc_id=631
METHOD:PUBLISH
END:VEVENT
END:VCALENDAR