BEGIN:VCALENDAR
VERSION:2.0
PRODID:spatie/icalendar-generator
DESCRIPTION:אירועים מ-היTרבות - HiTarbut
X-WR-CALDESC:אירועים מ-היTרבות - HiTarbut
REFRESH-INTERVAL;VALUE=DURATION:PT1440M
X-PUBLISHED-TTL:PT1440M
BEGIN:VTIMEZONE
TZID:Asia/Jerusalem
BEGIN:STANDARD
DTSTART:20221030T020000Z
TZOFFSETFROM:+0300
TZOFFSETTO:+0200
END:STANDARD
BEGIN:DAYLIGHT
DTSTART:20230324T020000Z
TZOFFSETFROM:+0200
TZOFFSETTO:+0300
END:DAYLIGHT
END:VTIMEZONE
BEGIN:VTIMEZONE
TZID:UTC
BEGIN:STANDARD
DTSTART:20250724T170445Z
TZOFFSETFROM:+0000
TZOFFSETTO:+0000
END:STANDARD
END:VTIMEZONE
BEGIN:VEVENT
UID:761-80
DTSTAMP:20260420T170445Z
SUMMARY:היום בהיסטוריה
LOCATION:
ORGANIZER;CN=Meirav:MAILTO:meiravg21@gmail.com
RRULE:FREQ=YEARLY;BYMONTH=04;BYDAY=26;UNTIL=20330426T000000Z
DTSTART;TZID=Asia/Jerusalem:20230426T000000
DTEND;TZID=Asia/Jerusalem:20230426T010000
X-ALT-DESC;FMTTYPE=TEXT/HTML:121 (לספירה) - מרקוס אורליוס
  1793 - דלקרואה 1914 - ברנרד מלמוד 1889 - לודוויג 
 ווינטגנטשיין 1937 - הפצצת גרניקה 1986 - אסון צ
 'רנוביל &amp;nbsp\;
CATEGORIES:General
URL;VALUE=URI:https://meiravgolan-hitarbut.co.il/mc-events/%d7%94%d7%99%d7%
 95%d7%9d-%d7%91%d7%94%d7%99%d7%a1%d7%98%d7%95%d7%a8%d7%99%d7%94-29/?mc_id=
 761
METHOD:PUBLISH
END:VEVENT
END:VCALENDAR