BEGIN:VCALENDAR
VERSION:2.0
PRODID:spatie/icalendar-generator
DESCRIPTION:אירועים מ-היTרבות - HiTarbut
X-WR-CALDESC:אירועים מ-היTרבות - HiTarbut
REFRESH-INTERVAL;VALUE=DURATION:PT1440M
X-PUBLISHED-TTL:PT1440M
BEGIN:VTIMEZONE
TZID:Asia/Jerusalem
BEGIN:STANDARD
DTSTART:20221030T020000Z
TZOFFSETFROM:+0300
TZOFFSETTO:+0200
END:STANDARD
BEGIN:DAYLIGHT
DTSTART:20230324T020000Z
TZOFFSETFROM:+0200
TZOFFSETTO:+0300
END:DAYLIGHT
BEGIN:STANDARD
DTSTART:20231029T020000Z
TZOFFSETFROM:+0300
TZOFFSETTO:+0200
END:STANDARD
END:VTIMEZONE
BEGIN:VTIMEZONE
TZID:UTC
BEGIN:STANDARD
DTSTART:20250727T095551Z
TZOFFSETFROM:+0000
TZOFFSETTO:+0000
END:STANDARD
END:VTIMEZONE
BEGIN:VEVENT
UID:827-88
DTSTAMP:20260423T095551Z
SUMMARY:היום יומולדתם של
LOCATION:
ORGANIZER;CN=Meirav:MAILTO:meiravg21@gmail.com
RRULE:FREQ=YEARLY;BYMONTH=05;BYDAY=03;UNTIL=20330503T000000Z
DTSTART;TZID=Asia/Jerusalem:20230503T000000
DTEND;TZID=Asia/Jerusalem:20230503T010000
X-ALT-DESC;FMTTYPE=TEXT/HTML:1469 - ניקולו מקיאוולי 1898 - ג
 ולדה מאיר 1924 - יהודה עמיחי 1933 - ג'יימס בראו
 ן 1934 - ג'ורג' מוסטאקי 1978 - מירי מסיקה
CATEGORIES:General
URL;VALUE=URI:https://meiravgolan-hitarbut.co.il/mc-events/%d7%94%d7%99%d7%
 95%d7%9d-%d7%99%d7%95%d7%9e%d7%95%d7%9c%d7%93%d7%aa%d7%9d-%d7%a9%d7%9c-32/
 ?mc_id=827
METHOD:PUBLISH
END:VEVENT
END:VCALENDAR