BEGIN:VCALENDAR
VERSION:2.0
PRODID:spatie/icalendar-generator
DESCRIPTION:אירועים מ-היTרבות - HiTarbut
X-WR-CALDESC:אירועים מ-היTרבות - HiTarbut
REFRESH-INTERVAL;VALUE=DURATION:PT1440M
X-PUBLISHED-TTL:PT1440M
BEGIN:VTIMEZONE
TZID:Asia/Jerusalem
BEGIN:DAYLIGHT
DTSTART:20260327T020000Z
TZOFFSETFROM:+0200
TZOFFSETTO:+0300
END:DAYLIGHT
BEGIN:STANDARD
DTSTART:20261025T020000Z
TZOFFSETFROM:+0300
TZOFFSETTO:+0200
END:STANDARD
BEGIN:DAYLIGHT
DTSTART:20270326T020000Z
TZOFFSETFROM:+0200
TZOFFSETTO:+0300
END:DAYLIGHT
END:VTIMEZONE
BEGIN:VTIMEZONE
TZID:UTC
BEGIN:STANDARD
DTSTART:20250727T150800Z
TZOFFSETFROM:+0000
TZOFFSETTO:+0000
END:STANDARD
END:VTIMEZONE
BEGIN:VEVENT
UID:2688-233
DTSTAMP:20260423T150800Z
SUMMARY:היום בהיסטוריה
LOCATION:
ORGANIZER;CN=Meirav:MAILTO:meiravg21@gmail.com
RRULE:FREQ=YEARLY;BYMONTH=11;BYDAY=27;UNTIL=20331127T000000Z
DTSTART;TZID=Asia/Jerusalem:20261127T000000
DTEND;TZID=Asia/Jerusalem:20261127T010000
X-ALT-DESC;FMTTYPE=TEXT/HTML:1991 - יוצא האלבום המשובח של
  החברים של נטאשה - שינויים בהרגלי הצריחה [
 youtube https://www.youtube.com/watch?v=sc21E5BTHmk?si=mpNhsL4BUBYA-JN6] 1
 987 - יוצא לאור האלבום של אהוד בנאי - אהוד ב
 נאי והפליטים [youtube https://www.youtube.com/watch?v=7B3KyN6cF
 v8?si=8eMwMfupmpoaSIVr]
CATEGORIES:General
URL;VALUE=URI:https://meiravgolan-hitarbut.co.il/mc-events/%d7%94%d7%99%d7%
 95%d7%9d-%d7%91%d7%94%d7%99%d7%a1%d7%98%d7%95%d7%a8%d7%99%d7%94-106/?mc_id
 =2688
METHOD:PUBLISH
END:VEVENT
END:VCALENDAR