BEGIN:VCALENDAR
VERSION:2.0
PRODID:spatie/icalendar-generator
DESCRIPTION:אירועים מ-היTרבות - HiTarbut
X-WR-CALDESC:אירועים מ-היTרבות - HiTarbut
REFRESH-INTERVAL;VALUE=DURATION:PT1440M
X-PUBLISHED-TTL:PT1440M
BEGIN:VTIMEZONE
TZID:Asia/Jerusalem
BEGIN:STANDARD
DTSTART:20261025T020000Z
TZOFFSETFROM:+0300
TZOFFSETTO:+0200
END:STANDARD
BEGIN:DAYLIGHT
DTSTART:20270326T020000Z
TZOFFSETFROM:+0200
TZOFFSETTO:+0300
END:DAYLIGHT
END:VTIMEZONE
BEGIN:VTIMEZONE
TZID:UTC
BEGIN:STANDARD
DTSTART:20250723T165637Z
TZOFFSETFROM:+0000
TZOFFSETTO:+0000
END:STANDARD
END:VTIMEZONE
BEGIN:VEVENT
UID:2980-263
DTSTAMP:20260419T165637Z
SUMMARY:היום בהיסטוריה
LOCATION:
ORGANIZER;CN=Meirav:MAILTO:meiravg21@gmail.com
RRULE:FREQ=YEARLY;BYMONTH=01;BYDAY=12;UNTIL=20330112T000000Z
DTSTART;TZID=Asia/Jerusalem:20270112T000000
DTEND;TZID=Asia/Jerusalem:20270112T010000
X-ALT-DESC;FMTTYPE=TEXT/HTML:1876 - ג'ק לונדון 1906 - עמנואל 
 לוינס 1949 - הרוקי מורקמי 1969 - יוצא לאור האל
 בום הראשון של לד זפלין [youtube https://www.youtube.com/
 watch?v=UyOg0mt2R2k?si=VeWSPoMCSx-B5vDR]
CATEGORIES:General
URL;VALUE=URI:https://meiravgolan-hitarbut.co.il/mc-events/%d7%94%d7%99%d7%
 95%d7%9d-%d7%91%d7%94%d7%99%d7%a1%d7%98%d7%95%d7%a8%d7%99%d7%94-117/?mc_id
 =2980
METHOD:PUBLISH
END:VEVENT
END:VCALENDAR